BEGIN:VCALENDAR
VERSION:2.0
PRODID:-//eventon.com NONSGML v1.0//EN
CALSCALE:GREGORIAN
METHOD:PUBLISH
BEGIN:VEVENT
UID:69e61056831de
DTSTAMP:20260420T113902Z
DTSTART:20181012T170000Z
DTEND:20181014T120000Z
LOCATION:Wetzlas (Schloss) Wetzlas 1\,  3594 Wetzlas\,  Österreich
SUMMARY:Pax Imperialis
DESCRIPTION:10. MOND IM JAHR 51 MAXIS II.Nach Jahren im Krieg kehrt der Ers
 tgeborene der Familie Caprunius\,  einer Patrizier Familie aus der Provinz 
 Atakis\,  zurück in seine Heimat. Um diesen freudigen Anlass gebührend zu
  feiern hat sich die Familie Caprunius entschieden zu Ehren des Fest des Wi
 ndes und der Göttin Lelwynn[..]\nhttps://www.larp-oesterreich.at/events/pa
 x-imperialis/
URL:https://www.larp-oesterreich.at/events/pax-imperialis/
END:VEVENT
END:VCALENDAR