BEGIN:VCALENDAR
VERSION:2.0
PRODID:-//eventon.com NONSGML v1.0//EN
CALSCALE:GREGORIAN
METHOD:PUBLISH
BEGIN:VEVENT
UID:69e82f39de428
DTSTAMP:20260422T021521Z
DTSTART:20181102T160000Z
DTEND:20181104T110000Z
LOCATION:Wildegg (Burg) Wildeggerstraße 41\,  2393 Sittendorf bei Wien\,  Österreich
SUMMARY:Ryu Shima (Zwischenspiel)
DESCRIPTION:Ryu Shima (Zwischenspiel)\nhttps://www.larp-oesterreich.at/even
 ts/ryu-shima-zwischenspiel/
URL:https://www.larp-oesterreich.at/events/ryu-shima-zwischenspiel/
END:VEVENT
END:VCALENDAR