BEGIN:VCALENDAR
VERSION:2.0
PRODID:-//eventon.com NONSGML v1.0//EN
CALSCALE:GREGORIAN
METHOD:PUBLISH
BEGIN:VEVENT
UID:69e6234ecdffb
DTSTAMP:20260420T125958Z
DTSTART:20180604T190000Z
DTEND:20180604T220000Z
LOCATION:Pizzeria Roma (Lokal) Fasangasse 33\,  1030 Wien
SUMMARY:Holo-Con Austria
DESCRIPTION:Gemeinsam lassen wir das Spiel Revue passieren\,  schmieden PlÃ
 ¤ne fÃ¼r kommende Lives\,  quatschen\,  plaudern und genieÃŸen den Abend\, 
  die Gesellschaft\,  die Pizze und das Bier :-) 8. JÃ¤nner 5. Februar 2018 
 5. MÃ¤rz 2018 - das ist direkt nach dem WSZH LARP 2. April 2018 4. Juni 201
 8 2. Juli[..]\nhttps://www.larp-oesterreich.at/events/holo-con-austria/
URL:https://www.larp-oesterreich.at/events/holo-con-austria/
END:VEVENT
END:VCALENDAR