BEGIN:VCALENDAR
VERSION:2.0
PRODID:-//eventon.com NONSGML v1.0//EN
CALSCALE:GREGORIAN
METHOD:PUBLISH
BEGIN:VEVENT
UID:69e622976faa9
DTSTAMP:20260420T125655Z
DTSTART:20180615T120000Z
DTEND:20180617T120000Z
LOCATION:Limberg (Schloss) Limberg 1\,  8541 Limberg bei Wies\,  Österreich
SUMMARY:Codex Himmelstor
DESCRIPTION:OT:„Himmelstor“ ist wortwörtlich der Anfang vom Ende. Hier
  entscheidet sich\,  was mit der Welt geschehen wird. Ob Deliah an seinem S
 chicksal zerbricht\,  oder stark genug ist den Feind niederzustrecken.Diese
 s Spiel soll\,  wie viele vorherige große Codex-Teile\,  sehr kampﬂastig
  werden und sich vorwiegend der Auseinandersetzung mit dem Feind – dem Ve
 rderben[..]\nhttps://www.larp-oesterreich.at/events/codex-himmelstor/
URL:https://www.larp-oesterreich.at/events/codex-himmelstor/
END:VEVENT
END:VCALENDAR