BEGIN:VCALENDAR
VERSION:2.0
PRODID:-//eventon.com NONSGML v1.0//EN
CALSCALE:GREGORIAN
METHOD:PUBLISH
BEGIN:VEVENT
UID:69e567a5c2210
DTSTAMP:20260419T233917Z
DTSTART:20181005T170000Z
DTEND:20181007T120000Z
LOCATION:Albrechtsberg (Schloss) Pielachstraße 8\,  3382 Loosdorf\,  Österreich
SUMMARY:C'est la guerre 3
DESCRIPTION:Ungarn 1918 Krieg überzieht die Welt. Er wird auf dem Schlacht
 feld wie auch in den Köpfen der Menschen ausgetragen. Das Kaisereich Öste
 rreich-Ungarn\,  das Deutsche Reich und seine Verbündeten kämpfen\,  seit
  nunmehr vier Jahren einen verbissenen Krieg gegen die Ententemächte. Russ
 land ist besiegt und zerfällt in einen blutigen Bürgerkrieg\,  Rumänien 
 und[..]\nhttps://www.larp-oesterreich.at/events/cest-la-guerre-3/
URL:https://www.larp-oesterreich.at/events/cest-la-guerre-3/
END:VEVENT
END:VCALENDAR