BEGIN:VCALENDAR
VERSION:2.0
PRODID:-//eventon.com NONSGML v1.0//EN
CALSCALE:GREGORIAN
METHOD:PUBLISH
BEGIN:VEVENT
UID:69e5c657a21d9
DTSTAMP:20260420T062319Z
DTSTART:20180824T160000Z
DTEND:20180825T140000Z
LOCATION:Roverhütte (Pfadfinder) Am Harzberg\,  2540 Bad Vöslau
SUMMARY:Necron 3
DESCRIPTION:Jetztzeit - DKWDDK Horrorstufe 6 8 Spielerplätze - Ausverkauft
  12 NSCplätze 07.2.-01.03. - Early Bird 20€ 02.03.-01.05. - 1. Staffel 2
 5€ 02.05.-01.08. - 2. Staffel 30€ 01.08.-23.08. - Last Minute 35€ Put
 zpauschale 10€ Anreise ab 14 Uhr möglich\,  Time In 16 Uhr! Das Spiel ge
 ht vorraussichtlich bis 3 Uhr Nachts[..]\nhttps://www.larp-oesterreich.at/e
 vents/necron-3/
URL:https://www.larp-oesterreich.at/events/necron-3/
END:VEVENT
END:VCALENDAR