BEGIN:VCALENDAR
VERSION:2.0
PRODID:-//eventon.com NONSGML v1.0//EN
CALSCALE:GREGORIAN
METHOD:PUBLISH
BEGIN:VEVENT
UID:69e73a37dfef7
DTSTAMP:20260421T084959Z
DTSTART:20180826T140000Z
DTEND:20180826T210000Z
LOCATION:Tympanum-Kulturkeller (Lokal) Prinz Eugen-Straße 6\,  1040 Wien\,  Österreich
SUMMARY:4. Potter Taverne "Zum Zerbrochenen Besen"
DESCRIPTION:"Treffen im Potterversum Studenten\,  Professoren\,  Alumnis\, 
  jegliches magische Volk\,  Squip\,  oder einfach weil man in den Ort einge
 weiht wurde. London hat den "Tropfenden Kessel"\,  Wien den "Zerbrochenen B
 esen". freie Charakterinteraktion\,  bring mit\,  was du spielen willst. OT
 -Ecke für Vorbereitungsgespräche zum WSZH-LARP Unkostenbeitrag: € 10\, 
 - Es besteht keine Konsumpflicht. Der Tympanum[..]\nhttps://www.larp-oester
 reich.at/events/4-potter-taverne-zum-zerbrochenen-besen/
URL:https://www.larp-oesterreich.at/events/4-potter-taverne-zum-zerbrochenen-besen/
END:VEVENT
END:VCALENDAR