BEGIN:VCALENDAR
VERSION:2.0
PRODID:-//eventon.com NONSGML v1.0//EN
CALSCALE:GREGORIAN
METHOD:PUBLISH
BEGIN:VEVENT
UID:69e739e2d2859
DTSTAMP:20260421T084834Z
DTSTART:20190503
DTEND:20190504
LOCATION:Josef-Blaschko-Haus der Pfadfindergilde Freistadt Pfadfinderhaus\,  Pfadfinderweg 2\,  A-4240 Freistadt
SUMMARY:Sturm und Stille: Grenzgänger
DESCRIPTION:Einstiegsspiel in unsere neue Kampagne STURM &amp; STILLE:Und a
 uf einmal ist Krieg. Männer und Frauen werden eingezogen. Die Äcker liege
 n brach. Es ist seltsam still - als ob etwas fehlt. Ängstlich späht man a
 us den schmalen Fenstern...Der Krieg verändert alles. Aus Bauern und Handw
 erkern werden Soldaten und Helden. Der Großbauer[..]\nhttps://www.larp-oes
 terreich.at/events/sturm-und-stille-grenzgaenger-2/
URL:https://www.larp-oesterreich.at/events/sturm-und-stille-grenzgaenger-2/
END:VEVENT
END:VCALENDAR