BEGIN:VCALENDAR
VERSION:2.0
PRODID:-//eventon.com NONSGML v1.0//EN
CALSCALE:GREGORIAN
METHOD:PUBLISH
BEGIN:VEVENT
UID:69e88f6d7c5d6
DTSTAMP:20260422T090549Z
DTSTART:20190607
DTEND:20190608
LOCATION:
SUMMARY:Torneo del Corsarios II
DESCRIPTION:Und wieder sind 12 weitere Monde verstrichen und Port Laris ruf
 t erneut zum großen Turnier „Torneo del Corsarios“. Oscurrio\,  Hana u
 nd Violenco sind wieder auf der Suche nach tapferen und fähigen Streiter\
 ,  um für sie den Sieg und die Vorherrschaft für das kommende Jahr zu hol
 en. Der Zyklus der Reinigung wurde[..]\nhttps://www.larp-oesterreich.at/eve
 nts/torneo-del-corsarios-ii/
URL:https://www.larp-oesterreich.at/events/torneo-del-corsarios-ii/
END:VEVENT
END:VCALENDAR