BEGIN:VCALENDAR
VERSION:2.0
PRODID:-//eventon.com NONSGML v1.0//EN
CALSCALE:GREGORIAN
METHOD:PUBLISH
BEGIN:VEVENT
UID:69e88f3533d23
DTSTAMP:20260422T090453Z
DTSTART:20191004T000000Z
DTEND:20191006T000000Z
LOCATION:BaumÃ¼hle Unterpertholz
SUMMARY:Exil: Von JÃ¤gern und Gejagten
DESCRIPTION:IT-Infos: SagaÂ wirdÂ vonÂ LegendenÂ inÂ AtemÂ gehalten.Â VonÂ 
 denÂ HafenstÃ¤dtenÂ derÂ KÃ¼stenÂ bisÂ zuÂ denÂ KÃ¶hlerdÃ¶rfernÂ inÂ denÂ t
 iefstenÂ WÃ¤ldernÂ erzÃ¤hltÂ manÂ sichÂ vonÂ derÂ ertrunkenenÂ WÃ¤chterin\,
  Â derÂ KompanieÂ derÂ GehÃ¤ngtenÂ undÂ demÂ wanderndenÂ Leuchtturm.Â DochÂ
  eineÂ SageÂ wecktÂ stetsÂ besondereÂ EhrfurchtÂ undÂ tiefesÂ GrauenÂ wennÂ
  einÂ ErzÃ¤hlerÂ sieÂ einerÂ GruppeÂ vortrÃ¤gt;Â gleichÂ obÂ sieÂ amÂ heime
 ligenÂ KaminÂ oderÂ umÂ einÂ LagerfeuerÂ amÂ WegesrandÂ versammeltÂ vorgetr
 agenÂ wird:Â derÂ Gratzug. &nbsp; InÂ denÂ rauenÂ NÃ¤chtenÂ desÂ erstenÂ Fr
 ostesÂ springenÂ dieÂ wildenÂ GestaltenÂ desÂ GratzugesÂ vonÂ BerggipfelÂ z
 uÂ Berggipfel.Â IhreÂ verdrehtenÂ GesÃ¤ngeÂ hallenÂ vonÂ denÂ FelswÃ¤ndenÂ 
 wiederÂ undÂ treibenÂ Ã¼bersÂ LandÂ wÃ¤hrendÂ dasÂ LichtÂ ihrerÂ FackelnÂ i
 hreÂ SchattenÂ riesenhaftÂ undÂ schaurigÂ aufÂ denÂ SternenhimmelÂ malt.Â W
 ennÂ derÂ GratzugÂ seinÂ UnwesenÂ treibt\, Â istÂ manÂ besserÂ daheim\, Â h
 interÂ festÂ verschlossenenÂ TÃ¼ren\, Â dennÂ werÂ ihmÂ begegnet\, Â denÂ s
 iehtÂ manÂ nieÂ wieder. WeheÂ jenenÂ denenÂ derÂ GratzugÂ folgtÂ umÂ sieÂ z
 uÂ holen.Â WeheÂ derÂ ExilÂ undÂ ihrerÂ Crew. OT-Infos: Von JÃ¤gern und Gej
 agten ist ein Abenteuerspiel in der rauen Wildnis eines ungezÃ¤hmten Landes
 \,  mit einem Fokus auf intensivem Charakterspiel. Die Veranstaltung findet
  in und um die BaumÃ¼hle in der NÃ¤he von Unterpertholz statt\,  und wir wo
 llen die umliegenden WÃ¤lder nutzen\,  um euch in[..]\nhttps://www.larp-oes
 terreich.at/events/exil-von-jaegern-und-gejagten/
URL:https://www.larp-oesterreich.at/events/exil-von-jaegern-und-gejagten/
END:VEVENT
END:VCALENDAR