BEGIN:VCALENDAR
VERSION:2.0
PRODID:-//eventon.com NONSGML v1.0//EN
CALSCALE:GREGORIAN
METHOD:PUBLISH
BEGIN:VEVENT
UID:69e4e572121e7
DTSTAMP:20260419T142346Z
DTSTART:20190126T130000Z
DTEND:20190126T230000Z
LOCATION:Hans Nemecek (Hütte) Höhenstraße
SUMMARY:Bajdiše
DESCRIPTION:Bajdiše ist ein historisches Larp\,  das sich mit der schwier
 igen Kärntner Geschichte der ersten Hälfte des 20. Jahrhunderts beschäft
 igt. Der Ort Bajdiše ist nach dem zweiten Weltkrieg von Schuld\,  Scham un
 d Schmerz zerrissen. Vertreibung\,  Mord und Vergeltung haben das Klima zwi
 schen den Volksgruppen jahrelang vergiftet. Im brüchigen Frieden\,  da man
  den[..]\nhttps://www.larp-oesterreich.at/events/bajdise/
URL:https://www.larp-oesterreich.at/events/bajdise/
END:VEVENT
END:VCALENDAR