BEGIN:VCALENDAR
VERSION:2.0
PRODID:-//eventon.com NONSGML v1.0//EN
CALSCALE:GREGORIAN
METHOD:PUBLISH
BEGIN:VEVENT
UID:69e7398380de3
DTSTAMP:20260421T084659Z
DTSTART:20190309T180000Z
DTEND:20190310T010000Z
LOCATION:
SUMMARY:Seemannsgarn - Zu neuen Ufern!
DESCRIPTION:IT: Port Dusam\,  neunter März 219 a.p. Der letzte Abend vor d
 em Aufbruch der Exil zur größten Entdeckungsfahrt aller Zeiten. In einer 
 Kaschemme am Hafen sind für einen Abend alle gesellschaftlichen Grenzen au
 fgehoben: Entdecker und Seeräuber\,  Wissenschaftler und Schmuggler\,  Rei
 che und Ratten\,  alle feiern den historischen Moment - oder nutzen[..]\nht
 tps://www.larp-oesterreich.at/events/seemannsgarn-zu-neuen-ufern/
URL:https://www.larp-oesterreich.at/events/seemannsgarn-zu-neuen-ufern/
END:VEVENT
END:VCALENDAR