BEGIN:VCALENDAR
VERSION:2.0
PRODID:-//eventon.com NONSGML v1.0//EN
CALSCALE:GREGORIAN
METHOD:PUBLISH
BEGIN:VEVENT
UID:69e8fe1bdad9f
DTSTAMP:20260422T165803Z
DTSTART:20190308T120000Z
DTEND:20190310T150000Z
LOCATION:Roverhütte (Pfadfinder) Am Harzberg\,  2540 Bad Vöslau
SUMMARY:Necron 4
DESCRIPTION:Jetztzeit - DKWDDK FSK 18 Horrorstufe 10 Spielerplätze 1 - Ver
 geben Traumlande-Wesen- plätze 20 55€ Early Bird 20.7.-20.8. 65€ 1. St
 affel 21.8.-21.9. 75€ 2. Staffel 22.9.-22.11. 85€ 3. Staffel 23.11.-15.
 2. ANMELDESCHLUSS: 15.2. Ohne Ausnahmen! Putzpauschale 10€ TICKETS WERDEN
  NICHT ZURÜCKGENOMMEN! Tickets sind NICHT Personengebunden\,  dh Weitergab
 e möglich Anreise ab 12[..]\nhttps://www.larp-oesterreich.at/events/necron
 -4/
URL:https://www.larp-oesterreich.at/events/necron-4/
END:VEVENT
END:VCALENDAR