BEGIN:VCALENDAR
VERSION:2.0
PRODID:-//eventon.com NONSGML v1.0//EN
CALSCALE:GREGORIAN
METHOD:PUBLISH
BEGIN:VEVENT
UID:69eadfdc9e75e
DTSTAMP:20260424T031332Z
DTSTART:20190801T000000Z
DTEND:20190804T000000Z
LOCATION:
SUMMARY:Demetra
DESCRIPTION:Internationales Larp in Italien. Mehr Informationen: http://ww
 w.grv.it/demetra-en/\nhttps://www.larp-oesterreich.at/events/demetra/
URL:https://www.larp-oesterreich.at/events/demetra/
END:VEVENT
END:VCALENDAR