BEGIN:VCALENDAR
VERSION:2.0
PRODID:-//eventon.com NONSGML v1.0//EN
CALSCALE:GREGORIAN
METHOD:PUBLISH
BEGIN:VEVENT
UID:69e4cff70fabd
DTSTAMP:20260419T125207Z
DTSTART:20190208T160000Z
DTEND:20190210T120000Z
LOCATION:Wimberg 25\,  5421 Adnet
SUMMARY:Wintertaverne
DESCRIPTION:Kleine Larp - Wintertaverne ca. 20-25 Personen derzeit geplant.
  (Schlafplätze begrenzt auf 22 derzeit) Anreise Freitag Nachmittag\,  Time
  in zwischen 16-18 Uhr\,  Vollverpflegt\,  Unkostenbeitrag: Freiwillige Spe
 nde\,  für Übernachtende Gäste: Feldbetten benötigt! Genereller Ablauf:
  Die Anreise ist für Freitag Nachmittag angesetzt\,  Time in zwischen 16 u
 nd 18 Uhr. Gespielt wird Freitag[..]\nhttps://www.larp-oesterreich.at/event
 s/wintertaverne/
URL:https://www.larp-oesterreich.at/events/wintertaverne/
END:VEVENT
END:VCALENDAR