BEGIN:VCALENDAR
VERSION:2.0
PRODID:-//eventon.com NONSGML v1.0//EN
CALSCALE:GREGORIAN
METHOD:PUBLISH
BEGIN:VEVENT
UID:69e73a8c3630e
DTSTAMP:20260421T085124Z
DTSTART:20190217T130000Z
DTEND:20190217T210000Z
LOCATION:Tympanum-Kulturkeller (Lokal) Prinz Eugen-Straße 6\,  1040 Wien\,  Österreich
SUMMARY:Zum Zerbrochenen Besen
DESCRIPTION:"Treffen im Potterversum\,  Studenten\,  Professoren\,  Alumnis
 \,  jegliches magische Volk. London hat den "Tropfenden Kessel"\,  Wien den
  "Zerbrochenen Besen". freie Charakterinteraktion\,  OT-Ecke für Vorbereit
 ungsgespräche zum WSZH-LARP Plots bitte zwei Wochen vorher an die SL schic
 ken. Tavernen sind explizit dazu da\,  einander kennen zu lernen\,  Charakt
 erkonzepte\,  Gewandung\,  Schminke\,  oder Masken auszuprobieren. Nichts[.
 .]\nhttps://www.larp-oesterreich.at/events/zum-zerbrochenen-besen/
URL:https://www.larp-oesterreich.at/events/zum-zerbrochenen-besen/
END:VEVENT
END:VCALENDAR