BEGIN:VCALENDAR
VERSION:2.0
PRODID:-//eventon.com NONSGML v1.0//EN
CALSCALE:GREGORIAN
METHOD:PUBLISH
BEGIN:VEVENT
UID:69e73ad0c1791
DTSTAMP:20260421T085232Z
DTSTART:20190830T150000Z
DTEND:20190901T150000Z
LOCATION:
SUMMARY:Arbeitstitel "Namenlose Tage" - DSA
DESCRIPTION:Das Böse schläft nie! Gäbe es in Aventurien nicht ein paar f
 urchtlose Helden\,  dann hätten die finsteren Kultisten und Diener des Nam
 enlosen wohl längst die Herrschaft an sich gerissen\,  aber noch können w
 ir auf Rettung hoffen. Ankunft Freitag 15 Uhr\,  Abreise Sonntag 15 Uhr\,  
 24 h in-time Ort: voraussichtlich Ost-Steiermark[..]\nhttps://www.larp-oest
 erreich.at/events/arbeitstitel-namenlose-tage-dsa/
URL:https://www.larp-oesterreich.at/events/arbeitstitel-namenlose-tage-dsa/
END:VEVENT
END:VCALENDAR