BEGIN:VCALENDAR
VERSION:2.0
PRODID:-//eventon.com NONSGML v1.0//EN
CALSCALE:GREGORIAN
METHOD:PUBLISH
BEGIN:VEVENT
UID:69e7471215181
DTSTAMP:20260421T094450Z
DTSTART:20190802T183000Z
DTEND:20190804T123000Z
LOCATION:Albrechtsberg (Schloss) Pielachstraße 8\,  3382 Loosdorf\,  Österreich
SUMMARY:Szenen einer Jagd VIII
DESCRIPTION:Spiel im Glatisant Setting. Organisiert von Mark Ferris (Facebo
 ok). Weitere Infos folgen!\nhttps://www.larp-oesterreich.at/events/szenen-e
 iner-jagd-viii/
URL:https://www.larp-oesterreich.at/events/szenen-einer-jagd-viii/
END:VEVENT
END:VCALENDAR