BEGIN:VCALENDAR
VERSION:2.0
PRODID:-//eventon.com NONSGML v1.0//EN
CALSCALE:GREGORIAN
METHOD:PUBLISH
BEGIN:VEVENT
UID:69e8a167d062e
DTSTAMP:20260422T102231Z
DTSTART:20190906T170000Z
DTEND:20190908T130000Z
LOCATION:Ignaz Jachimov (Pfadfinder) Sparbach 22\,  2393 Sittendorf
SUMMARY:Die Riemann Eskalation
DESCRIPTION:Hierbei handelt es sich um ein Cyberpunk/Cthulhu Larp\,  in ein
 em eigen entworfenen Setting. Es ist das vierte Spiel im "Riemann Universum
 ". Man braucht aber keine Kenntnisse von den anderen Spielen zu haben\,  da
  jedes für sich steht. Das Ganze ist sehr einsteigerfreundlich für Larp-A
 nfänger\,  wie auch etwas für eingefleischte Larper.[..]\nhttps://www.lar
 p-oesterreich.at/events/die-riemann-eskalation/
URL:https://www.larp-oesterreich.at/events/die-riemann-eskalation/
END:VEVENT
END:VCALENDAR