BEGIN:VCALENDAR
VERSION:2.0
PRODID:-//eventon.com NONSGML v1.0//EN
CALSCALE:GREGORIAN
METHOD:PUBLISH
BEGIN:VEVENT
UID:69e8a83c2497b
DTSTAMP:20260422T105140Z
DTSTART:20200619
DTEND:20200620
LOCATION:Albrechtsberg (Schloss) Pielachstraße 8\,  3382 Loosdorf\,  Österreich
SUMMARY:Szenen einer Jagd VIII - Bracken Hatz
DESCRIPTION:25 Jahre Profil LRV und 20-jähriges Jubiläum der Profil-LRV-K
 ampagne "Szenen einer Jagd".Setting: Artussage frühes 6. Jhdt. Link zur An
 meldung: https://forms.gle/Ndwsu77dqaRCiFc97 Kontakt-Mailadresse: szenenein
 erjagd@gmail.com Wir schreiben das Jahr 505 n. Chr. 20 Jahre ist es her sei
 t Prinz Marius Ferris dereinst aus Gwent ausgezogen ist um einen Bauernaufs
 tand in Wuerensis niederzuschlagen. Eine[..]\nhttps://www.larp-oesterreich.
 at/events/szenen-einer-jagd-viii-bracken-hatz/
URL:https://www.larp-oesterreich.at/events/szenen-einer-jagd-viii-bracken-hatz/
END:VEVENT
END:VCALENDAR