BEGIN:VCALENDAR
VERSION:2.0
PRODID:-//eventon.com NONSGML v1.0//EN
CALSCALE:GREGORIAN
METHOD:PUBLISH
BEGIN:VEVENT
UID:69e7972716b13
DTSTAMP:20260421T152631Z
DTSTART:20190921T120000Z
DTEND:20190922T020000Z
LOCATION:Kritzendorf (Pfadfinder) Weißenhofer Straße 28-32\,  3420 Klosterneuburg
SUMMARY:Blutlinien IV
DESCRIPTION:Ein Spiel der Blutlinien Kampagne. Die einzelnen Handlungssträ
 nge laufen zwar durch die Kampagne\,  allerdings sind alle Spiele in sich a
 bgeschlossen.\nhttps://www.larp-oesterreich.at/events/blutlinien-iv/
URL:https://www.larp-oesterreich.at/events/blutlinien-iv/
END:VEVENT
END:VCALENDAR