BEGIN:VCALENDAR
VERSION:2.0
PRODID:-//eventon.com NONSGML v1.0//EN
CALSCALE:GREGORIAN
METHOD:PUBLISH
BEGIN:VEVENT
UID:69e73a97f1ae6
DTSTAMP:20260421T085135Z
DTSTART:20200202T180000Z
DTEND:20200204T110000Z
LOCATION:
SUMMARY:Necron 6 - Jenseits der Mauer des Schlafes
DESCRIPTION:Jetztzeit - DKWDDK Horrorstufe 7/10 12 SC 4 GSC Anmeldefrist bi
 s 1.1.2020 Stornierung nicht möglich\,  Ticketweitergabe muss mit der Orga
  abgesprochen werden (sollte kein Problem sein\,  aber für vereinzelte Per
 sonen ist Necron nicht geeignet) 130€ Unkostenbeitrag (bevor die Frage ko
 mmt\,  wir haben ein Hotel komplett ausgebucht\,  es gibt Vollversorgung am
 [..]\nhttps://www.larp-oesterreich.at/events/necron-6-jenseits-der-mauer-de
 s-schlafes/
URL:https://www.larp-oesterreich.at/events/necron-6-jenseits-der-mauer-des-schlafes/
END:VEVENT
END:VCALENDAR