BEGIN:VCALENDAR
VERSION:2.0
PRODID:-//eventon.com NONSGML v1.0//EN
CALSCALE:GREGORIAN
METHOD:PUBLISH
BEGIN:VEVENT
UID:69e76d1647677
DTSTAMP:20260421T122702Z
DTSTART:20191026T150000Z
DTEND:20191027T010000Z
LOCATION:
SUMMARY:Red Diamond
DESCRIPTION:Chicago\,  23. März 1929 Alkohol\,  Blut\,  Geld und Glamour! 
 Nirgendwo liegen diese Begriffe näher beieinander als in Chicago zur Zeit 
 der Prohibition – Hochburg des Alkohol-Schmuggels\,  fest in Händen der 
 Mafia\,  Schauplatz der hohen Politik\,  Zentrum der Wirtschaft und Bühne 
 zum großen Erfolg. Kommende Ereignisse werfen drohend ihre Schatten voraus
 [..]\nhttps://www.larp-oesterreich.at/events/red-diamond/
URL:https://www.larp-oesterreich.at/events/red-diamond/
END:VEVENT
END:VCALENDAR