BEGIN:VCALENDAR
VERSION:2.0
PRODID:-//eventon.com NONSGML v1.0//EN
CALSCALE:GREGORIAN
METHOD:PUBLISH
BEGIN:VEVENT
UID:69e88edfc5579
DTSTAMP:20260422T090327Z
DTSTART:20191012T120000Z
DTEND:20191013T120000Z
LOCATION:
SUMMARY:Kaiserschmarrn Endzeit Taverne
DESCRIPTION:IT: Der kalte Wind scheint stärker zu werden je höher sich de
 r Pfad in Gebirge schlängelt. Bäume gibt es zwar noch\,  aber diese wirke
 n irgendwie anders. Verkrüppelt zwar\,  aber nicht so wie jene\,  die ihr 
 von zuhause kennt. Diese Bäume scheint der Wind verdreht zu haben\,  nicht
  die Strahlung. Auch[..]\nhttps://www.larp-oesterreich.at/events/kaiserschm
 arrn-endzeit-taverne/
URL:https://www.larp-oesterreich.at/events/kaiserschmarrn-endzeit-taverne/
END:VEVENT
END:VCALENDAR