BEGIN:VCALENDAR
VERSION:2.0
PRODID:-//eventon.com NONSGML v1.0//EN
CALSCALE:GREGORIAN
METHOD:PUBLISH
BEGIN:VEVENT
UID:69e92206d8318
DTSTAMP:20260422T193118Z
DTSTART:20210820T180000Z
DTEND:20210822T120000Z
LOCATION:Albrechtsberg (Schloss) Pielachstraße 8\,  3382 Loosdorf\,  Österreich
SUMMARY:Matière de Bretagne
DESCRIPTION:IT: England ist zerrissen vom Krieg um den Thron. Jeder Herr sc
 hart Soldaten um sich\,  entweder um die Krone zu erringen oder um sich und
  sein Land gegen die Heerscharen anderer zu schützen. In dieser leidvollen
  Zeit tut sich ein Mann hervor\,  der England den Frieden bringen könnte: 
 Arthur Pendragon\, [..]\nhttps://www.larp-oesterreich.at/events/matiere-de-
 bretagne/
URL:https://www.larp-oesterreich.at/events/matiere-de-bretagne/
END:VEVENT
END:VCALENDAR