BEGIN:VCALENDAR
VERSION:2.0
PRODID:-//eventon.com NONSGML v1.0//EN
CALSCALE:GREGORIAN
METHOD:PUBLISH
BEGIN:VEVENT
UID:69e638150dc8e
DTSTAMP:20260420T142837Z
DTSTART:20191129T193000Z
DTEND:20191201T140000Z
LOCATION:Wildegg (Burg) Wildeggerstraße 41\,  2393 Sittendorf bei Wien\,  Österreich
SUMMARY:Blutrausch
DESCRIPTION:24 Stunden IT Plotspiel mit Kampfelementen Was erwartet dich al
 s Spieler: Anstrengendes und forderndes Plotlastiges Spiel im Style der Blu
 tkampagne. Charaktertode werden nicht fokussiert\,  sind allerdings nicht a
 uszuschließen. Das Psychische und Physische Stresslevel ist auf diesem Spi
 el sehr hoch. Was erwartet dich als NSC: Mehrere verschiedenen Springerroll
 en\,  einige Permanent Rollen.[..]\nhttps://www.larp-oesterreich.at/events/
 blutrausch/
URL:https://www.larp-oesterreich.at/events/blutrausch/
END:VEVENT
END:VCALENDAR