BEGIN:VCALENDAR
VERSION:2.0
PRODID:-//eventon.com NONSGML v1.0//EN
CALSCALE:GREGORIAN
METHOD:PUBLISH
BEGIN:VEVENT
UID:69e8a0f950ec1
DTSTAMP:20260422T102041Z
DTSTART:20200306T180000Z
DTEND:20200308T130000Z
LOCATION:Helenenschacht (Pfadfinder) Helenenschacht 21a\,  7323 Gemeinde Ritzing
SUMMARY:Unter schwarzen Schwingen
DESCRIPTION:»Dichter Nebel zog zwischen den krummen\,  kahlen Bäumen auf.
  Ich tat mir schwer\,  zwischen Tag und Nacht in der Düsternis zu untersch
 eiden\,  besonders\,  wenn man schon länger diese trostlose Gegend sein zu
 hause nennen musste. Heute Abend kommen sie wieder. Der einzige Hinweis dar
 auf\,  dass die Dämmerung Einzug hielt. Wir werden[..]\nhttps://www.larp-o
 esterreich.at/events/dsa-larp/
URL:https://www.larp-oesterreich.at/events/dsa-larp/
END:VEVENT
END:VCALENDAR