BEGIN:VCALENDAR
VERSION:2.0
PRODID:-//eventon.com NONSGML v1.0//EN
CALSCALE:GREGORIAN
METHOD:PUBLISH
BEGIN:VEVENT
UID:69e87b74a5d85
DTSTAMP:20260422T074036Z
DTSTART:20191031T150000Z
DTEND:20191103T150000Z
LOCATION:
SUMMARY:WSZH 13
DESCRIPTION:Ein Wochenende lang wie in Hogwarts sein Das Potter-LARP Wiener
  Schule für Zauberkunst und Hexerei bietet dir genau das. Nächster Termin
  WSZH 13 Beginn 31.10. Anreise später Nachmittag TimeIn mit dem Aufwachen 
 am 1. November TimeOut mit dem Einschlafen am 2. November Ende 3. November 
 Out-Time Früstück und Nachfeiern am[..]\nhttps://www.larp-oesterreich.at/
 events/wszh-13-2/
URL:https://www.larp-oesterreich.at/events/wszh-13-2/
END:VEVENT
END:VCALENDAR