BEGIN:VCALENDAR
VERSION:2.0
PRODID:-//eventon.com NONSGML v1.0//EN
CALSCALE:GREGORIAN
METHOD:PUBLISH
BEGIN:VEVENT
UID:69e735f253469
DTSTAMP:20260421T083146Z
DTSTART:20200306T000000Z
DTEND:20200308T000000Z
LOCATION:
SUMMARY:Haus am Stein II
DESCRIPTION:Einladungsspiel im Whenua Setting\nhttps://www.larp-oesterreich
 .at/events/haus-am-stein-ii/
URL:https://www.larp-oesterreich.at/events/haus-am-stein-ii/
END:VEVENT
END:VCALENDAR