BEGIN:VCALENDAR
VERSION:2.0
PRODID:-//eventon.com NONSGML v1.0//EN
CALSCALE:GREGORIAN
METHOD:PUBLISH
BEGIN:VEVENT
UID:69e8a9b28514c
DTSTAMP:20260422T105754Z
DTSTART:20200508T180000Z
DTEND:20200510T130000Z
LOCATION:
SUMMARY:Baronie Goldenherz: Blut und Honig
DESCRIPTION:Aufgrund der Location- und Konzeptänderung - ist das erstmals 
 nur ein Save the date. Anmeldung unter https://forms.gle/t6tC8eYY8k6u4upr8\
 nhttps://www.larp-oesterreich.at/events/baronie-goldenherz-sturm-der-barbar
 en/
URL:https://www.larp-oesterreich.at/events/baronie-goldenherz-sturm-der-barbaren/
END:VEVENT
END:VCALENDAR