BEGIN:VCALENDAR
VERSION:2.0
PRODID:-//eventon.com NONSGML v1.0//EN
CALSCALE:GREGORIAN
METHOD:PUBLISH
BEGIN:VEVENT
UID:69e74e5b96f2a
DTSTAMP:20260421T101555Z
DTSTART:20191213T200000Z
DTEND:20191214T020000Z
LOCATION:
SUMMARY:Necron Party
DESCRIPTION:Der Red Hook Club ist ein kleines Lokal in dem sich vor allem V
 erschwörungstheoretiker und Okkultisten treffen\,  da es aber recht zentra
 l gelegen ist\,  ist das nicht die einzige Klientel. Viele Leute treffen si
 ch hier auch einfach zum Party machen oder aufs Feierabendbier. Somit sollt
 e für jeden Charakter die Möglichkeit[..]\nhttps://www.larp-oesterreich.a
 t/events/necron-party-2/
URL:https://www.larp-oesterreich.at/events/necron-party-2/
END:VEVENT
END:VCALENDAR