BEGIN:VCALENDAR
VERSION:2.0
PRODID:-//eventon.com NONSGML v1.0//EN
CALSCALE:GREGORIAN
METHOD:PUBLISH
BEGIN:VEVENT
UID:69e88ea998ce5
DTSTAMP:20260422T090233Z
DTSTART:20201016T000000Z
DTEND:20201018T000000Z
LOCATION:
SUMMARY:Sweet Dreams
DESCRIPTION:Einladungsspiel\nhttps://www.larp-oesterreich.at/events/sweet-d
 reams/
URL:https://www.larp-oesterreich.at/events/sweet-dreams/
END:VEVENT
END:VCALENDAR