BEGIN:VCALENDAR
VERSION:2.0
PRODID:-//eventon.com NONSGML v1.0//EN
CALSCALE:GREGORIAN
METHOD:PUBLISH
BEGIN:VEVENT
UID:69e501140b782
DTSTAMP:20260419T162140Z
DTSTART:20200619T160000Z
DTEND:20200621T130000Z
LOCATION:Dr. Hüttl-Heim Steinrieglstraße 61\,  3411 Weidlingbach
SUMMARY:Die goldene kugel
DESCRIPTION:„Septimus\,  wann hattest du denn das letzte mal Urlaub?“ f
 ragte sie ihn vor einigen Monden. „Hm\,  wenn ich so darüber nachdenke\,
   dann wohl noch nie“\,  antwortete er ihr! „Versprich es\,  du kommst 
 mich besuchen und wir nehmen uns eine entspannte Auszeit. Fern ab\,  von al
 l dem hier!“ sie zwinkerte ihm[..]\nhttps://www.larp-oesterreich.at/event
 s/die-goldene-kugel/
URL:https://www.larp-oesterreich.at/events/die-goldene-kugel/
END:VEVENT
END:VCALENDAR