BEGIN:VCALENDAR
VERSION:2.0
PRODID:-//eventon.com NONSGML v1.0//EN
CALSCALE:GREGORIAN
METHOD:PUBLISH
BEGIN:VEVENT
UID:69e809860cddb
DTSTAMP:20260421T233430Z
DTSTART:20200221T200000Z
DTEND:20200223T130000Z
LOCATION:Ignaz Jachimov (Pfadfinder) Sparbach 22\,  2393 Sittendorf
SUMMARY:Treffen Der Helden
DESCRIPTION:Treffen der Helden im Kampf gegen Fly. Vollversorgung HausschlĂ
 ¤fer Ambiente /5 Kampf /5 Plot /5 Stress /5 5 NSCs ohne staffel (Feldbett) 
 30â‚¬ 42 SCs 20.12.-20.1.20 65â‚¬ 21.1.20-17.2.20 70â‚¬\nhttps://www.larp-o
 esterreich.at/events/treffen-der-helden/
URL:https://www.larp-oesterreich.at/events/treffen-der-helden/
END:VEVENT
END:VCALENDAR