BEGIN:VCALENDAR
VERSION:2.0
PRODID:-//eventon.com NONSGML v1.0//EN
CALSCALE:GREGORIAN
METHOD:PUBLISH
BEGIN:VEVENT
UID:69e88edfc69a3
DTSTAMP:20260422T090327Z
DTSTART:20200310T180000Z
DTEND:20200310T220000Z
LOCATION:Amerlinghaus Stiftgasse 8\,  1070 Wien
SUMMARY:Let's Larp März
DESCRIPTION:Möchtest du dem Alltag entfliehen und dich mit einem vorher fe
 stgelegten Thema im Rahmen eines Larps auseinandersetzen? Dann bist du rich
 tig bei –  LET’S LARP  – 1000 Atmosphärens Kurzlarp-Abend! Von lus
 tig bis gesellschaftskritisch\,  von spannungsgeladen bis stimmungsvoll wol
 len wir verschiedene kurze Larps österreichischer und internationaler Larp
 -Designer spielen. In der Vergangenheit[..]\nhttps://www.larp-oesterreich.a
 t/events/lets-larp-maerz/
URL:https://www.larp-oesterreich.at/events/lets-larp-maerz/
END:VEVENT
END:VCALENDAR