BEGIN:VCALENDAR
VERSION:2.0
PRODID:-//eventon.com NONSGML v1.0//EN
CALSCALE:GREGORIAN
METHOD:PUBLISH
BEGIN:VEVENT
UID:69e8a2b141d59
DTSTAMP:20260422T102801Z
DTSTART:20200828
DTEND:20200829
LOCATION:
SUMMARY:Hobbit Spiel
DESCRIPTION:Mehr Infos folgen\nhttps://www.larp-oesterreich.at/events/hobbi
 t-spiel/
URL:https://www.larp-oesterreich.at/events/hobbit-spiel/
END:VEVENT
END:VCALENDAR