BEGIN:VCALENDAR
VERSION:2.0
PRODID:-//eventon.com NONSGML v1.0//EN
CALSCALE:GREGORIAN
METHOD:PUBLISH
BEGIN:VEVENT
UID:69e63834b0576
DTSTAMP:20260420T142908Z
DTSTART:20201031T120000Z
DTEND:20201101T010000Z
LOCATION:VolXhaus Südbahngürtel 24\,  9020 Klagenfurt am Wörthersee
SUMMARY:Beyond
DESCRIPTION:Unter dem folgenden Link könnt ihr euch für diese Veranstaltu
 ng anmelden: https://gilead-verein.at/beyond-larp/ Wir sind die Menschheit.
  Wir sind der Fortschritt. Wir sind das Kapital. Wir sind Drohnen. Wir sind
  Bestien. Wir sind im leeren Raum allein. Wir konsumieren die Galaxis. Wir 
 tanzen ab zu harter Musik. Wir suchen was? Komm[..]\nhttps://www.larp-oeste
 rreich.at/events/beyond-2/
URL:https://www.larp-oesterreich.at/events/beyond-2/
END:VEVENT
END:VCALENDAR