BEGIN:VCALENDAR
VERSION:2.0
PRODID:-//eventon.com NONSGML v1.0//EN
CALSCALE:GREGORIAN
METHOD:PUBLISH
BEGIN:VEVENT
UID:69e88f3536dc7
DTSTAMP:20260422T090453Z
DTSTART:20220817T140000Z
DTEND:20220821T120000Z
LOCATION:
SUMMARY:Tage der Tapferkeit 2022 - Save the Date
DESCRIPTION:Genaue infos werden noch bis ende Oktober bekannt gegeben.\nhtt
 ps://www.larp-oesterreich.at/events/tage-der-tapferkeit-2022-save-the-date/
URL:https://www.larp-oesterreich.at/events/tage-der-tapferkeit-2022-save-the-date/
END:VEVENT
END:VCALENDAR