BEGIN:VCALENDAR
VERSION:2.0
PRODID:-//eventon.com NONSGML v1.0//EN
CALSCALE:GREGORIAN
METHOD:PUBLISH
BEGIN:VEVENT
UID:69e8a17030173
DTSTAMP:20260422T102240Z
DTSTART:20220506T120000Z
DTEND:20220508T100000Z
LOCATION:Gut Gamsjäger Langseitenrotte 23
SUMMARY:Mast- und Schotbruch II
DESCRIPTION:FLAVOUR-TEXT “Absolute Stille\,  nichts ist zu hören. Nichts
  zu sehen außer das weite blaue Meer\,  welches das Schiff aalglatt umgibt
 . Seit Wochen gibt es kein bisschen Wind. Selbst ein Ausatmen scheint nicht
 s zu bewegen. Das Wasser wird bald knapp. Für den Topgast ist die Stille f
 ast schlimmer als die stehende[..]\nhttps://www.larp-oesterreich.at/events/
 mast-und-schotbruch-ii/
URL:https://www.larp-oesterreich.at/events/mast-und-schotbruch-ii/
END:VEVENT
END:VCALENDAR