BEGIN:VCALENDAR
VERSION:2.0
PRODID:-//eventon.com NONSGML v1.0//EN
CALSCALE:GREGORIAN
METHOD:PUBLISH
BEGIN:VEVENT
UID:69e6245e9d394
DTSTAMP:20260420T130430Z
DTSTART:20230506T030000Z
DTEND:20230507T230000Z
LOCATION:
SUMMARY:Zaeleill aep - Skellige
DESCRIPTION:Safe-the-Date\nhttps://www.larp-oesterreich.at/events/zaeleill-
 aep-skellige/
URL:https://www.larp-oesterreich.at/events/zaeleill-aep-skellige/
END:VEVENT
END:VCALENDAR