BEGIN:VCALENDAR
VERSION:2.0
PRODID:-//eventon.com NONSGML v1.0//EN
CALSCALE:GREGORIAN
METHOD:PUBLISH
BEGIN:VEVENT
UID:69eae69cc3f6b
DTSTAMP:20260424T034220Z
DTSTART:20230817T130000Z
DTEND:20230820T100000Z
LOCATION:
SUMMARY:Tage der Tapferkeit 2023
DESCRIPTION:Die „Tage der Tapferkeit“ sind eine Erlebnis-Rollenspielver
 anstaltung des Vereines Inkognito. Die Rahmenhandlung sind die Turniere\,  
 die am Donnerstag\,  Freitag und Samstag abgehalten werden. Wie immer wird 
 es bei diesen Turnieren reale Preise zu gewinnen geben. WANN: Das Spiel fin
 det 17.-20. August 2023 statt. (Frühanreise ab 16.08.2020 frühestens 14:0
 0 möglich!) WO:[..]\nhttps://www.larp-oesterreich.at/events/tage-der-tapfe
 rkeit-2023/
URL:https://www.larp-oesterreich.at/events/tage-der-tapferkeit-2023/
END:VEVENT
END:VCALENDAR