BEGIN:VCALENDAR
VERSION:2.0
PRODID:-//eventon.com NONSGML v1.0//EN
CALSCALE:GREGORIAN
METHOD:PUBLISH
BEGIN:VEVENT
UID:69e4cb954265b
DTSTAMP:20260419T123325Z
DTSTART:20230825T000000Z
DTEND:20230827T000000Z
LOCATION:auf Anfrage
SUMMARY:DSA Einladungsspiel
DESCRIPTION:DSA Einladungsspiel\nhttps://www.larp-oesterreich.at/events/dsa
 -einladungsspiel/
URL:https://www.larp-oesterreich.at/events/dsa-einladungsspiel/
END:VEVENT
END:VCALENDAR