BEGIN:VCALENDAR
VERSION:2.0
PRODID:-//eventon.com NONSGML v1.0//EN
CALSCALE:GREGORIAN
METHOD:PUBLISH
BEGIN:VEVENT
UID:69e9ca6d0a8d9
DTSTAMP:20260423T072949Z
DTSTART:20240524T100000Z
DTEND:20240526T100000Z
LOCATION:Dr. Hüttl-Heim Steinrieglstraße 61\,  3411 Weidlingbach
SUMMARY:Hostis Humani Generis
DESCRIPTION:IT: 14 n.K. Die Piraten des Konzils der Schwarzen Flaggen bedro
 hen die Handelsrouten der insulanischen See. Die Gesetze der zivilisierten 
 Länder der Welt erklären sie zu 'hostis humani generis' - Feinden aller M
 enschen. Die Antwort der Piraten ist ihre eigene Doktrin: Krieg gegen den R
 est der Welt... OT: Ambientereiches Seefahrer-Abenteuer-[..]\nhttps://www.l
 arp-oesterreich.at/events/hostis-humani-generis/
URL:https://www.larp-oesterreich.at/events/hostis-humani-generis/
END:VEVENT
END:VCALENDAR