BEGIN:VCALENDAR
VERSION:2.0
PRODID:-//eventon.com NONSGML v1.0//EN
CALSCALE:GREGORIAN
METHOD:PUBLISH
BEGIN:VEVENT
UID:69e63d4dc4fc0
DTSTAMP:20260420T145053Z
DTSTART:20231112T140000Z
DTEND:20231112T183000Z
LOCATION:Paracelsusstraße 38 5110 Oberndorf (Salzburg) Paracelsusstraße 38\,  5110 Oberndorf
SUMMARY:Der beliebteste Tanz in europäischen Landen und darüber hinaus: Das Menuett - mit Livemusik
DESCRIPTION:\nhttps://www.larp-oesterreich.at/events/der-beliebteste-tanz-i
 n-europaeischen-landen-und-darueber-hinaus-das-menuett-mit-livemusik/
URL:https://www.larp-oesterreich.at/events/der-beliebteste-tanz-in-europaeischen-landen-und-darueber-hinaus-das-menuett-mit-livemusik/
END:VEVENT
END:VCALENDAR