BEGIN:VCALENDAR
VERSION:2.0
PRODID:-//eventon.com NONSGML v1.0//EN
CALSCALE:GREGORIAN
METHOD:PUBLISH
BEGIN:VEVENT
UID:69e88f29e0dfb
DTSTAMP:20260422T090441Z
DTSTART:20240815T120000Z
DTEND:20240815T100000Z
LOCATION:
SUMMARY:Tage der Tapferkeit 2024
DESCRIPTION:Die „Tage der Tapferkeit“ sind eine Erlebnis-Rollenspielver
 anstaltung des Vereines Inkognito. Die Rahmenhandlung sind die Turniere\,  
 die am Donnerstag\,  Freitag und Samstag abgehalten werden. Wie immer wird 
 es bei diesen Turnieren reale Preise zu gewinnen geben. WANN: Das Spiel fin
 det 15.-18. August 2024 statt. (Frühanreise ab 14.08.2020 frühestens 14:0
 0 möglich!) WO:[..]\nhttps://www.larp-oesterreich.at/events/tage-der-tapfe
 rkeit-2024/
URL:https://www.larp-oesterreich.at/events/tage-der-tapferkeit-2024/
END:VEVENT
END:VCALENDAR