BEGIN:VCALENDAR
VERSION:2.0
PRODID:-//eventon.com NONSGML v1.0//EN
CALSCALE:GREGORIAN
METHOD:PUBLISH
BEGIN:VEVENT
UID:69e88f965ba0e
DTSTAMP:20260422T090630Z
DTSTART:20250711
DTEND:20250712
LOCATION:auf Anfrage
SUMMARY:Das Erbe - ein Hobbit-LARP
DESCRIPTION:Liebe Hobbits\,  ehrenwerte Verwandte\,  es ist eine traurige N
 achricht\,  die uns erreicht hat: Die ehrwÃ¼rdige Primula Tuk\,  eine der Ã
 ¤ltesten und weisesten Hobbit-Damen des Auenlandes\,  ist von uns gegangen.
  Eine ihrer letzten WÃ¼nsche am Sterbebett war es\,  dass sich anlÃ¤sslich 
 ihres Todes ihre weitschichtige Verwandtschaft zu ihren Ehren treffen soll\
 , [..]\nhttps://www.larp-oesterreich.at/events/das-erbe-ein-hobbit-larp/
URL:https://www.larp-oesterreich.at/events/das-erbe-ein-hobbit-larp/
END:VEVENT
END:VCALENDAR