BEGIN:VCALENDAR
VERSION:2.0
PRODID:-//eventon.com NONSGML v1.0//EN
CALSCALE:GREGORIAN
METHOD:PUBLISH
BEGIN:VEVENT
UID:69e9fd0812f98
DTSTAMP:20260423T110544Z
DTSTART:20251009T200000Z
DTEND:20251012T200000Z
LOCATION:Schloss Limberg Limberg 1 8541 Limberg bei Wies Österreich
SUMMARY:A’Sar Al’Zul 3
DESCRIPTION:Informationen zu A’Sar Al’Zul 3 - Blutbund DSA-Con | Vollve
 rsorger | Bewerbungsspiel | 50 SC | 40 NSC Ambiente 🔴🔴🔴🔴🔴 Ka
 mpf 🔴⚪️⚪️⚪️⚪️ Plot 🔴🔴🔴🔴🔴 Magie 🔴🔴
 ️⚪️⚪️ IT Hintergrund Zeit: Travia 1048 BF&nbsp; Ort: Aranien - E
 mirat Djeristan - Hinterland von Ras’Lamashu - Keshal Turquaz (Blutburg) 
 Vor einem Jahr besiegelte ein[..]\nhttps://www.larp-oesterreich.at/events/a
 sar-alzul-3-blutbund/
URL:https://www.larp-oesterreich.at/events/asar-alzul-3-blutbund/
END:VEVENT
END:VCALENDAR