BEGIN:VCALENDAR
VERSION:2.0
PRODID:-//eventon.com NONSGML v1.0//EN
CALSCALE:GREGORIAN
METHOD:PUBLISH
BEGIN:VEVENT
UID:69e739e2d2626
DTSTAMP:20260421T084834Z
DTSTART:20250510T080000Z
DTEND:20250510T215900Z
LOCATION:Roverhütte (Pfadfinder) Am Harzberg\,  2540 Bad Vöslau
SUMMARY:Drone Wars
DESCRIPTION:OT Infos: Dies ist das erste Spiel eines neuen Endzeitspiels\, 
  die erste Kampagne aus einer bald glorreichen Serie: Drone Wars\,  von der
  UrOaga\,  bestehend aus Martin\,  Gernot und IngeRegelwerk: DKWDDK mit Aus
 rüstungsentwicklung (der Charakter levelt nicht\,  sondern die Ausrüstung
  wird im Laufe der Zeit besser)Charaktertod prinzipiell möglich. Unkostenb
 eitrag: Spieler: 25.-NSC:[..]\nhttps://www.larp-oesterreich.at/events/drone
 -wars/
URL:https://www.larp-oesterreich.at/events/drone-wars/
END:VEVENT
END:VCALENDAR