BEGIN:VCALENDAR
VERSION:2.0
PRODID:-//eventon.com NONSGML v1.0//EN
CALSCALE:GREGORIAN
METHOD:PUBLISH
BEGIN:VEVENT
UID:69e49e4d7d10a
DTSTAMP:20260419T092013Z
DTSTART:20250822T200000Z
DTEND:20250824T110000Z
LOCATION:Wolfsgrund Sparbach 19\,  3902 Sparbach
SUMMARY:Dunkles Redis
DESCRIPTION:Ein Spiel für Leute welche die dunklere Seite Whenuas erkunden
  wollen. Ihr könnt als Nekromanten\,  Piratinnen\,  Gauner\,  Diebinnen\, 
  Spione oder Hexen kommen bzw was euch sonst noch einfällt. Es gibt aber t
 rotzdem Regeln auf dem Schwarzmarkt\,  welcher im Dorf „Tanngrün“ stat
 tfindet\,  an die sich auch die finstersten Schergen halten müssen\, [..]\
 nhttps://www.larp-oesterreich.at/events/dunkles-redis/
URL:https://www.larp-oesterreich.at/events/dunkles-redis/
END:VEVENT
END:VCALENDAR