BEGIN:VCALENDAR
VERSION:2.0
PRODID:-//eventon.com NONSGML v1.0//EN
CALSCALE:GREGORIAN
METHOD:PUBLISH
BEGIN:VEVENT
UID:69e4e2de08e1d
DTSTAMP:20260419T141246Z
DTSTART:20260501
DTEND:20260502
LOCATION:Wolfsgrund Sparbach 19\,  3902 Sparbach
SUMMARY:HOSS
DESCRIPTION:"Lange schon irrst du in dem kleinen Dorf umher. Dir ist kalt u
 nd du willst endlich insWarme dir den Bauch voll schlagen und ein gutes Gla
 s Bier oder Met trinken. Die Lichter flackern und die Sicht ist durch den A
 bendnebel eingeschränkt. Laut hallen Schritte in dem kleinen Innenhof. „
 Irgendwo muss[..]\nhttps://www.larp-oesterreich.at/events/hoss/
URL:https://www.larp-oesterreich.at/events/hoss/
END:VEVENT
END:VCALENDAR